BEGIN:VCALENDAR
VERSION:2.0
PRODID:-//Club d&#039;échecs de Créteil - ECPv5.12.0//NONSGML v1.0//EN
CALSCALE:GREGORIAN
METHOD:PUBLISH
X-WR-CALNAME:Club d&#039;échecs de Créteil
X-ORIGINAL-URL:https://creteil-echecs.com
X-WR-CALDESC:évènements pour Club d&#039;échecs de Créteil
REFRESH-INTERVAL;VALUE=DURATION:PT1H
X-Robots-Tag:noindex
X-PUBLISHED-TTL:PT1H
BEGIN:VTIMEZONE
TZID:Europe/Paris
BEGIN:DAYLIGHT
TZOFFSETFROM:+0100
TZOFFSETTO:+0200
TZNAME:CEST
DTSTART:20230326T010000
END:DAYLIGHT
BEGIN:STANDARD
TZOFFSETFROM:+0200
TZOFFSETTO:+0100
TZNAME:CET
DTSTART:20231029T010000
END:STANDARD
END:VTIMEZONE
BEGIN:VEVENT
DTSTART;TZID=Europe/Paris:20231007T000000
DTEND;TZID=Europe/Paris:20231007T000000
DTSTAMP:20260423T102408
CREATED:20231029T101729Z
LAST-MODIFIED:20231029T102826Z
UID:3729-1696636800-1696636800@creteil-echecs.com
SUMMARY:Grand Prix Rapides 1
DESCRIPTION:Créteil – Gymnase Savignat
URL:https://creteil-echecs.com/event/grand-prix-rapides-1/
LOCATION:Créteil
CATEGORIES:Grand Prix
END:VEVENT
END:VCALENDAR