BEGIN:VCALENDAR
VERSION:2.0
PRODID:-//Club d&#039;échecs de Créteil - ECPv5.12.0//NONSGML v1.0//EN
CALSCALE:GREGORIAN
METHOD:PUBLISH
X-WR-CALNAME:Club d&#039;échecs de Créteil
X-ORIGINAL-URL:https://creteil-echecs.com
X-WR-CALDESC:évènements pour Club d&#039;échecs de Créteil
REFRESH-INTERVAL;VALUE=DURATION:PT1H
X-Robots-Tag:noindex
X-PUBLISHED-TTL:PT1H
BEGIN:VTIMEZONE
TZID:Europe/Paris
BEGIN:DAYLIGHT
TZOFFSETFROM:+0100
TZOFFSETTO:+0200
TZNAME:CEST
DTSTART:20240331T010000
END:DAYLIGHT
BEGIN:STANDARD
TZOFFSETFROM:+0200
TZOFFSETTO:+0100
TZNAME:CET
DTSTART:20241027T010000
END:STANDARD
END:VTIMEZONE
BEGIN:VEVENT
DTSTART;TZID=Europe/Paris:20240525T000000
DTEND;TZID=Europe/Paris:20240525T000000
DTSTAMP:20260423T002241
CREATED:20231029T101746Z
LAST-MODIFIED:20231029T102857Z
UID:3737-1716595200-1716595200@creteil-echecs.com
SUMMARY:Grand Prix Féminin 4
DESCRIPTION:
URL:https://creteil-echecs.com/event/grand-prix-feminin-4/
CATEGORIES:Féminines,Grand Prix
END:VEVENT
END:VCALENDAR